BEGIN:VCALENDAR
VERSION:2.0
PRODID:-//Oficina Municipal d&#039;Esports per a Tothom. - ECPv6.15.20//NONSGML v1.0//EN
CALSCALE:GREGORIAN
METHOD:PUBLISH
X-WR-CALNAME:Oficina Municipal d&#039;Esports per a Tothom.
X-ORIGINAL-URL:https://omet.santcugat.cat
X-WR-CALDESC:Esdeveniments per Oficina Municipal d&#039;Esports per a Tothom.
REFRESH-INTERVAL;VALUE=DURATION:PT1H
X-Robots-Tag:noindex
X-PUBLISHED-TTL:PT1H
BEGIN:VTIMEZONE
TZID:Europe/Madrid
BEGIN:DAYLIGHT
TZOFFSETFROM:+0100
TZOFFSETTO:+0200
TZNAME:CEST
DTSTART:20230326T010000
END:DAYLIGHT
BEGIN:STANDARD
TZOFFSETFROM:+0200
TZOFFSETTO:+0100
TZNAME:CET
DTSTART:20231029T010000
END:STANDARD
BEGIN:DAYLIGHT
TZOFFSETFROM:+0100
TZOFFSETTO:+0200
TZNAME:CEST
DTSTART:20240331T010000
END:DAYLIGHT
BEGIN:STANDARD
TZOFFSETFROM:+0200
TZOFFSETTO:+0100
TZNAME:CET
DTSTART:20241027T010000
END:STANDARD
BEGIN:DAYLIGHT
TZOFFSETFROM:+0100
TZOFFSETTO:+0200
TZNAME:CEST
DTSTART:20250330T010000
END:DAYLIGHT
BEGIN:STANDARD
TZOFFSETFROM:+0200
TZOFFSETTO:+0100
TZNAME:CET
DTSTART:20251026T010000
END:STANDARD
END:VTIMEZONE
BEGIN:VEVENT
DTSTART;TZID=Europe/Madrid:20241108T163000
DTEND;TZID=Europe/Madrid:20241108T180000
DTSTAMP:20260422T185034
CREATED:20240827T133836Z
LAST-MODIFIED:20240827T133836Z
UID:6361-1731083400-1731088800@omet.santcugat.cat
SUMMARY:Prepara't pel Cros
DESCRIPTION:Un any més\, i ja serà la 26a edició\, arriba el Cros Ciutat de Sant Cugat. Tot un clàssic de les curses de fons de Catalunya a nivell escolar i també popular.\nUna competició esportiva que al llarg dels anys s’ha convertit en tots els nivells en l’activitat estrella del municipi. Tot i el seu format competitiu\, és una prova familiar que es consolida com una autèntica FESTA DE L’ESPORT.\nPer això és important que arribis ben entrenat/ada i tinguis coneixement de com serà aquesta cursa.\nEt proposem que vinguis a fer una sessió d’entrenament puntual de forma gratuïta i sense inscripció prèvia\, divendres 8 de novembre de 16:30 a 18:00 hores al Parc de la Pollancreda. Els tècnics titulats que faran la sessió us donaran consells\, us explicaran la tècnica de carrera\, fareu activitats atlètiques\, escalfareu\, us ensenyaran estiraments bàsics\, com col·locar-vos el xip\, etc…\nRecorda que el punt de trobada serà l’extrem del Parc a l’encreuament de l’Avinguda de les Corts Catalanes amb el carrer Puig i Cadafalch.\nT’esperem!
URL:https://omet.santcugat.cat/agenda/preparat-pel-cros/
CATEGORIES:Esdeveniments
ATTACH;FMTTYPE=image/jpeg:https://omet.santcugat.cat/wp-content/uploads/2024/08/Imatge-Preparat-pel-Cros.jpg
END:VEVENT
BEGIN:VEVENT
DTSTART;TZID=Europe/Madrid:20241110T080000
DTEND;TZID=Europe/Madrid:20241110T140000
DTSTAMP:20260422T185034
CREATED:20240827T135551Z
LAST-MODIFIED:20240827T135551Z
UID:7827-1731225600-1731247200@omet.santcugat.cat
SUMMARY:26è Cros Ciutat de Sant Cugat
DESCRIPTION:L’Ajuntament de Sant Cugat mitjançant l’Oficina Municipal d’Esport per a Tothom (OMET)\, organitza un any més el Cros Ciutat de Sant Cugat. Enguany arribem a la 26a edició d’un esdeveniment esportiu que és tot un referent del municipi. Al llarg de tot el matí es desenvolupen un munt de curses\, separades per les diferents categories d’edats i sexe\, que engloben totes les edats.\nEn aquest mateix web trobaràs ben aviat tota la informació.\nParticipa!
URL:https://omet.santcugat.cat/agenda/26e-cros-ciutat-de-sant-cugat/
CATEGORIES:Esdeveniments
ATTACH;FMTTYPE=image/jpeg:https://omet.santcugat.cat/wp-content/uploads/2023/11/42.jpg
END:VEVENT
BEGIN:VEVENT
DTSTART;TZID=Europe/Madrid:20241116T100000
DTEND;TZID=Europe/Madrid:20241116T141500
DTSTAMP:20260422T185034
CREATED:20240827T140859Z
LAST-MODIFIED:20240827T140859Z
UID:6366-1731751200-1731766500@omet.santcugat.cat
SUMMARY:1a Jornada de Lliga d'Atletisme Escolar
DESCRIPTION:Dissabte 16 de novembre’24 comença la lliga d’atletisme escolar. Una lliga que es fa a la pista d’atletisme d’atletisme de la ZEM La Guinardera i que va adreçada a nenes i nens de 3r a 6è d’EP que fan l’activitat extraescolar d’atletisme dins del programa dels Jocs Esportius Escolars de l’OMET.\nEnguany arribem a la 15a edició d’aquesta lliga que pretén iniciar als infants a l’atletisme tot complementant els entrenaments setmanals que fan a les escoles. Entre d’altres\, es fomenten també els valors que porta implicits aquest esport i es reforcen aspectes formatius tot fent un munt d’activitats que engloven totes les disciplines atlètiques.
URL:https://omet.santcugat.cat/agenda/1a-jornada-de-lliga-datletisme-escolar/
CATEGORIES:Esdeveniments,Jocs Esportius Escolars
ATTACH;FMTTYPE=image/jpeg:https://omet.santcugat.cat/wp-content/uploads/2024/04/13.jpg
END:VEVENT
END:VCALENDAR