BEGIN:VCALENDAR
VERSION:2.0
PRODID:-//Oficina Municipal d&#039;Esports per a Tothom. - ECPv6.15.20//NONSGML v1.0//EN
CALSCALE:GREGORIAN
METHOD:PUBLISH
X-ORIGINAL-URL:https://omet.santcugat.cat
X-WR-CALDESC:Esdeveniments per Oficina Municipal d&#039;Esports per a Tothom.
REFRESH-INTERVAL;VALUE=DURATION:PT1H
X-Robots-Tag:noindex
X-PUBLISHED-TTL:PT1H
BEGIN:VTIMEZONE
TZID:UTC
BEGIN:STANDARD
TZOFFSETFROM:+0000
TZOFFSETTO:+0000
TZNAME:UTC
DTSTART:20250101T000000
END:STANDARD
END:VTIMEZONE
BEGIN:VEVENT
DTSTART;TZID=UTC:20260510T100000
DTEND;TZID=UTC:20260510T123000
DTSTAMP:20260421T193611
CREATED:20260414T121325Z
LAST-MODIFIED:20260414T121325Z
UID:12638-1778407200-1778416200@omet.santcugat.cat
SUMMARY:Cursa d'Orientació Familiar
DESCRIPTION:Adreçada a famílies (equips formats per una persona adulta i 1 o 2 infants de 1r a 6è de primària). \nMés informació i inscripcions a Cursa d’Orientació Familiar – Oficina Municipal d’Esports per a Tothom.
URL:https://omet.santcugat.cat/agenda/cursa-dorientacio-familiar-3/
LOCATION:Parc Central\, C/Josep Vidal i Granés amb C/Isidre Nonell\, Sant Cugat del Vallès
ATTACH;FMTTYPE=image/jpeg:https://omet.santcugat.cat/wp-content/uploads/2026/04/Agenda-Cursa-Orientacio-Familiar-1.jpg
END:VEVENT
BEGIN:VEVENT
DTSTART;TZID=UTC:20260530T090000
DTEND;TZID=UTC:20260530T210000
DTSTAMP:20260421T193611
CREATED:20260417T071324Z
LAST-MODIFIED:20260417T071325Z
UID:12642-1780131600-1780174800@omet.santcugat.cat
SUMMARY:Festa de Cloenda
DESCRIPTION:Consulteu el programa d’activitat al següent ENLLAÇ.
URL:https://omet.santcugat.cat/agenda/festa-de-cloenda/
LOCATION:ZEM Rambla del Celler\, Rambla del Celler s/n\, Sant Cugat del Vallès
CATEGORIES:Esdeveniments
ATTACH;FMTTYPE=image/jpeg:https://omet.santcugat.cat/wp-content/uploads/2023/05/foto_cloenda12.jpg
END:VEVENT
END:VCALENDAR