BEGIN:VCALENDAR
VERSION:2.0
PRODID:-//Oficina Municipal d&#039;Esports per a Tothom. - ECPv6.15.20//NONSGML v1.0//EN
CALSCALE:GREGORIAN
METHOD:PUBLISH
X-ORIGINAL-URL:https://omet.santcugat.cat
X-WR-CALDESC:Esdeveniments per Oficina Municipal d&#039;Esports per a Tothom.
REFRESH-INTERVAL;VALUE=DURATION:PT1H
X-Robots-Tag:noindex
X-PUBLISHED-TTL:PT1H
BEGIN:VTIMEZONE
TZID:Europe/Madrid
BEGIN:DAYLIGHT
TZOFFSETFROM:+0100
TZOFFSETTO:+0200
TZNAME:CEST
DTSTART:20240331T010000
END:DAYLIGHT
BEGIN:STANDARD
TZOFFSETFROM:+0200
TZOFFSETTO:+0100
TZNAME:CET
DTSTART:20241027T010000
END:STANDARD
BEGIN:DAYLIGHT
TZOFFSETFROM:+0100
TZOFFSETTO:+0200
TZNAME:CEST
DTSTART:20250330T010000
END:DAYLIGHT
BEGIN:STANDARD
TZOFFSETFROM:+0200
TZOFFSETTO:+0100
TZNAME:CET
DTSTART:20251026T010000
END:STANDARD
BEGIN:DAYLIGHT
TZOFFSETFROM:+0100
TZOFFSETTO:+0200
TZNAME:CEST
DTSTART:20260329T010000
END:DAYLIGHT
BEGIN:STANDARD
TZOFFSETFROM:+0200
TZOFFSETTO:+0100
TZNAME:CET
DTSTART:20261025T010000
END:STANDARD
END:VTIMEZONE
BEGIN:VTIMEZONE
TZID:UTC
BEGIN:STANDARD
TZOFFSETFROM:+0000
TZOFFSETTO:+0000
TZNAME:UTC
DTSTART:20240101T000000
END:STANDARD
END:VTIMEZONE
BEGIN:VEVENT
DTSTART;TZID=Europe/Madrid:20250201T090000
DTEND;TZID=Europe/Madrid:20250201T110000
DTSTAMP:20260422T215544
CREATED:20240827T150415Z
LAST-MODIFIED:20240827T150415Z
UID:6379-1738400400-1738407600@omet.santcugat.cat
SUMMARY:Trobada de dansa esportiva
DESCRIPTION:
URL:https://omet.santcugat.cat/agenda/trobada-de-dansa-esportiva/
CATEGORIES:Esdeveniments
ATTACH;FMTTYPE=image/jpeg:https://omet.santcugat.cat/wp-content/uploads/2023/09/IMG_HIPHOP3-e1724763932949.jpg
END:VEVENT
BEGIN:VEVENT
DTSTART;TZID=Europe/Madrid:20250201T093000
DTEND;TZID=Europe/Madrid:20250201T113000
DTSTAMP:20260422T215544
CREATED:20240827T142742Z
LAST-MODIFIED:20240827T142742Z
UID:6371-1738402200-1738409400@omet.santcugat.cat
SUMMARY:1a Jornada d'Iniciació Esportiva i Multiesport
DESCRIPTION:
URL:https://omet.santcugat.cat/agenda/1a-jornada-diniciacio-esportiva-i-multiesport/
CATEGORIES:Esdeveniments,Esport Escolar
ATTACH;FMTTYPE=image/jpeg:https://omet.santcugat.cat/wp-content/uploads/2023/05/foto_multiesportiva.jpg
END:VEVENT
BEGIN:VEVENT
DTSTART;TZID=Europe/Madrid:20250215T100000
DTEND;TZID=Europe/Madrid:20250215T141500
DTSTAMP:20260422T215544
CREATED:20240827T143151Z
LAST-MODIFIED:20240827T143151Z
UID:6374-1739613600-1739628900@omet.santcugat.cat
SUMMARY:2a Jornada de Lliga d'Atletisme Escolar
DESCRIPTION:
URL:https://omet.santcugat.cat/agenda/2a-jornada-de-lliga-datletisme-escolar/
CATEGORIES:Jocs Esportius Escolars
ATTACH;FMTTYPE=image/jpeg:https://omet.santcugat.cat/wp-content/uploads/2024/04/18.jpg
END:VEVENT
BEGIN:VEVENT
DTSTART;TZID=Europe/Madrid:20250216T153000
DTEND;TZID=Europe/Madrid:20250216T200000
DTSTAMP:20260422T215544
CREATED:20240827T143653Z
LAST-MODIFIED:20240827T143653Z
UID:6376-1739719800-1739736000@omet.santcugat.cat
SUMMARY:Campionat de Natació 2025
DESCRIPTION: 
URL:https://omet.santcugat.cat/agenda/campionat-de-natacio-2025/
CATEGORIES:Esdeveniments
ATTACH;FMTTYPE=image/jpeg:https://omet.santcugat.cat/wp-content/uploads/2024/07/campionat_natacio.jpg
END:VEVENT
BEGIN:VEVENT
DTSTART;TZID=Europe/Madrid:20250405T100000
DTEND;TZID=Europe/Madrid:20250405T141500
DTSTAMP:20260422T215544
CREATED:20240827T204140Z
LAST-MODIFIED:20240827T204140Z
UID:6382-1743847200-1743862500@omet.santcugat.cat
SUMMARY:3a Jornada de lliga d'Atletisme Escolar
DESCRIPTION:
URL:https://omet.santcugat.cat/agenda/3a-jornada-de-lliga-datletisme-escolar-2/
CATEGORIES:Jocs Esportius Escolars
ATTACH;FMTTYPE=image/jpeg:https://omet.santcugat.cat/wp-content/uploads/2024/04/panoramica.jpg
END:VEVENT
BEGIN:VEVENT
DTSTART;TZID=Europe/Madrid:20250406T100000
DTEND;TZID=Europe/Madrid:20250406T130000
DTSTAMP:20260422T215544
CREATED:20240827T205052Z
LAST-MODIFIED:20240827T205052Z
UID:6384-1743933600-1743944400@omet.santcugat.cat
SUMMARY:Cursa d'Orientació Escolar
DESCRIPTION:
URL:https://omet.santcugat.cat/agenda/cursa-dorientacio-escolar/
CATEGORIES:Esdeveniments
ATTACH;FMTTYPE=image/jpeg:https://omet.santcugat.cat/wp-content/uploads/2023/09/IMG_ORIENT3.jpg
END:VEVENT
BEGIN:VEVENT
DTSTART;TZID=Europe/Madrid:20250427T090000
DTEND;TZID=Europe/Madrid:20250427T210000
DTSTAMP:20260422T215544
CREATED:20240827T205539Z
LAST-MODIFIED:20240827T205539Z
UID:6386-1745744400-1745787600@omet.santcugat.cat
SUMMARY:Campionat de Gimnàstica Rítmica i 10a Gimnastrada
DESCRIPTION:
URL:https://omet.santcugat.cat/agenda/campionat-de-gimnastica-ritmica-i-gimnastrada/
CATEGORIES:Esdeveniments,Esport Escolar
ATTACH;FMTTYPE=image/jpeg:https://omet.santcugat.cat/wp-content/uploads/2024/07/campionat_ritmica.jpg
END:VEVENT
BEGIN:VEVENT
DTSTART;TZID=Europe/Madrid:20250511T100000
DTEND;TZID=Europe/Madrid:20250511T123000
DTSTAMP:20260422T215544
CREATED:20240827T205854Z
LAST-MODIFIED:20240827T205854Z
UID:6389-1746957600-1746966600@omet.santcugat.cat
SUMMARY:Cursa d'Orientació Familiar
DESCRIPTION:
URL:https://omet.santcugat.cat/agenda/cursa-dorientacio-familiar-2/
CATEGORIES:Esdeveniments
ATTACH;FMTTYPE=image/jpeg:https://omet.santcugat.cat/wp-content/uploads/2024/04/foto_orientacio_2.jpg
END:VEVENT
BEGIN:VEVENT
DTSTART;TZID=Europe/Madrid:20250517T093000
DTEND;TZID=Europe/Madrid:20250517T113000
DTSTAMP:20260422T215544
CREATED:20240827T210712Z
LAST-MODIFIED:20240827T210712Z
UID:6391-1747474200-1747481400@omet.santcugat.cat
SUMMARY:2a Jornada d'Iniciació Esportiva i Multiesport
DESCRIPTION:
URL:https://omet.santcugat.cat/agenda/2a-jornada-diniciacio-esportiva-i-multiesport/
CATEGORIES:Esdeveniments,Esport Escolar
ATTACH;FMTTYPE=image/jpeg:https://omet.santcugat.cat/wp-content/uploads/2023/05/estiu_multiesport.jpg
END:VEVENT
BEGIN:VEVENT
DTSTART;TZID=Europe/Madrid:20250524T100000
DTEND;TZID=Europe/Madrid:20250524T130000
DTSTAMP:20260422T215544
CREATED:20240828T120221Z
LAST-MODIFIED:20240828T120221Z
UID:6393-1748080800-1748091600@omet.santcugat.cat
SUMMARY:Trobada Comarcal de Karate
DESCRIPTION:
URL:https://omet.santcugat.cat/agenda/trobada-comarcal-de-karate/
CATEGORIES:Esdeveniments
ATTACH;FMTTYPE=image/jpeg:https://omet.santcugat.cat/wp-content/uploads/2023/09/IMG_JUDO2.jpg
END:VEVENT
BEGIN:VEVENT
DTSTART;TZID=Europe/Madrid:20250530T173000
DTEND;TZID=Europe/Madrid:20250530T203000
DTSTAMP:20260422T215544
CREATED:20240828T120937Z
LAST-MODIFIED:20240828T120937Z
UID:6397-1748626200-1748637000@omet.santcugat.cat
SUMMARY:Festa de Cloenda dels Jocs Esportius Escolars
DESCRIPTION:
URL:https://omet.santcugat.cat/agenda/festa-de-cloenda-dels-jocs-esportius-escolars-2/
CATEGORIES:Jocs Esportius Escolars
ATTACH;FMTTYPE=image/jpeg:https://omet.santcugat.cat/wp-content/uploads/2023/05/medales_i_trofeus.jpg
END:VEVENT
BEGIN:VEVENT
DTSTART;TZID=Europe/Madrid:20250607T090000
DTEND;TZID=Europe/Madrid:20250607T133000
DTSTAMP:20260422T215544
CREATED:20240828T121816Z
LAST-MODIFIED:20240828T121816Z
UID:6401-1749286800-1749303000@omet.santcugat.cat
SUMMARY:Cloenda de Voleibol Escolar
DESCRIPTION:
URL:https://omet.santcugat.cat/agenda/cloenda-de-voleibol-escolar/
CATEGORIES:Jocs Esportius Escolars
ATTACH;FMTTYPE=image/jpeg:https://omet.santcugat.cat/wp-content/uploads/2023/09/IMG_VB1.jpg
END:VEVENT
BEGIN:VEVENT
DTSTART;TZID=Europe/Madrid:20250607T090000
DTEND;TZID=Europe/Madrid:20250607T140000
DTSTAMP:20260422T215544
CREATED:20240828T121400Z
LAST-MODIFIED:20240828T121400Z
UID:6399-1749286800-1749304800@omet.santcugat.cat
SUMMARY:Cloenda de Bàsquet Escolar
DESCRIPTION:
URL:https://omet.santcugat.cat/agenda/cloenda-de-basquet-escolar/
CATEGORIES:Jocs Esportius Escolars
ATTACH;FMTTYPE=image/jpeg:https://omet.santcugat.cat/wp-content/uploads/2023/05/tutor_de_joc_basquet.jpg
END:VEVENT
BEGIN:VEVENT
DTSTART;TZID=Europe/Madrid:20250614T090000
DTEND;TZID=Europe/Madrid:20250614T210000
DTSTAMP:20260422T215544
CREATED:20240828T122221Z
LAST-MODIFIED:20240828T122221Z
UID:6403-1749891600-1749934800@omet.santcugat.cat
SUMMARY:Cloenda d'Handbol Escolar
DESCRIPTION:
URL:https://omet.santcugat.cat/agenda/cloenda-dhandbol-escolar/
CATEGORIES:Jocs Esportius Escolars
ATTACH;FMTTYPE=image/jpeg:https://omet.santcugat.cat/wp-content/uploads/2023/10/09.jpg
END:VEVENT
BEGIN:VEVENT
DTSTART;TZID=Europe/Madrid:20250627T000000
DTEND;TZID=Europe/Madrid:20250628T000000
DTSTAMP:20260422T215544
CREATED:20240828T122636Z
LAST-MODIFIED:20240828T122636Z
UID:6405-1750982400-1751068800@omet.santcugat.cat
SUMMARY:Festa de l'Esport al Carrer
DESCRIPTION:Dins del marc dels actes esportius de la Festa Major de la ciutat. \nDies: \n\nDivendres 27: de 18 a 21h\nDissabte 28: de 10.30 a 13h i de 18 a 21h\n\nUs hi esperem!
URL:https://omet.santcugat.cat/agenda/festa-de-lesport-al-carrer/
CATEGORIES:Esdeveniments
ATTACH;FMTTYPE=image/jpeg:https://omet.santcugat.cat/wp-content/uploads/2025/06/Esport-al-Carrer-2025-3.jpg
END:VEVENT
BEGIN:VEVENT
DTSTART;TZID=Europe/Madrid:20250627T190000
DTEND;TZID=Europe/Madrid:20250627T230000
DTSTAMP:20260422T215544
CREATED:20250617T094706Z
LAST-MODIFIED:20250617T094706Z
UID:9598-1751050800-1751065200@omet.santcugat.cat
SUMMARY:1r Torneig Nocturn FM League
DESCRIPTION:Torneigs de bàsquet 3×3\, futbol 3×3\, handbol 4×4 i voleibol 4×4. Per a nois i noies de 5è de primària a 2n d’ESO.
URL:https://omet.santcugat.cat/agenda/torneig-nocturn-fm-league/
CATEGORIES:Esdeveniments
ATTACH;FMTTYPE=image/jpeg:https://omet.santcugat.cat/wp-content/uploads/2025/06/imatge-per-a-web.jpg
END:VEVENT
BEGIN:VEVENT
DTSTART;TZID=Europe/Madrid:20251107T163000
DTEND;TZID=Europe/Madrid:20251107T180000
DTSTAMP:20260422T215544
CREATED:20251008T161021Z
LAST-MODIFIED:20251211T160007Z
UID:10289-1762533000-1762538400@omet.santcugat.cat
SUMMARY:Prepara't pel Cros 2025
DESCRIPTION:Un any més\, i ja serà la 27a edició\, arriba el Cros Ciutat de Sant Cugat. Tot un clàssic de les curses de fons de Catalunya a nivell escolar i també popular. \nUna competició esportiva que al llarg dels anys s’ha convertit en tots els nivells en l’activitat estrella del municipi. Tot i el seu format competitiu\, és una prova familiar que es consolida com una autèntica FESTA DE L’ESPORT. \nPer això és important que arribis ben entrenat/ada i tinguis coneixement de com serà aquesta cursa. \nEt proposem que vinguis a fer una sessió d’entrenament puntual de forma gratuïta i sense inscripció prèvia\, divendres 8 de novembre de 16:30 a 18:00 hores al Parc de la Pollancreda. Els tècnics titulats que faran la sessió us donaran consells\, us explicaran la tècnica de carrera\, fareu activitats atlètiques\, escalfareu\, us ensenyaran estiraments bàsics\, com col·locar-vos el xip\, etc… \nRecorda que el punt de trobada serà l’extrem del Parc de la Pollancreda a l’encreuament de l’Avinguda de les Corts Catalanes amb el carrer Puig i Cadafalch. \nT’esperem!
URL:https://omet.santcugat.cat/agenda/preparat-pel-cros-2025/
CATEGORIES:Esdeveniments
ATTACH;FMTTYPE=image/jpeg:https://omet.santcugat.cat/wp-content/uploads/2024/08/Imatge-Preparat-pel-Cros.jpg
END:VEVENT
BEGIN:VEVENT
DTSTART;TZID=Europe/Madrid:20251109T080000
DTEND;TZID=Europe/Madrid:20251109T153000
DTSTAMP:20260422T215544
CREATED:20251012T190127Z
LAST-MODIFIED:20251211T155848Z
UID:10268-1762675200-1762702200@omet.santcugat.cat
SUMMARY:27è Cros Ciutat de Sant Cugat
DESCRIPTION:L’Ajuntament de Sant Cugat mitjançant l’Oficina Municipal d’Esport per a Tothom (OMET)\, organitza un any més el Cros Ciutat de Sant Cugat. Enguany arribem a la 27a edició d’un esdeveniment esportiu que és tot un referent del municipi. Al llarg de tot el matí es desenvolupen un munt de curses\, separades per les diferents categories d’edats i sexe\, que engloben totes les edats. \nEn aquest mateix web trobaràs ben aviat tota la informació. \nParticipa!
URL:https://omet.santcugat.cat/agenda/27e-cros-ciutat-de-sant-cugat/
CATEGORIES:Esdeveniments
ATTACH;FMTTYPE=image/jpeg:https://omet.santcugat.cat/wp-content/uploads/2023/08/Foto-24e-cros-2022.jpg
END:VEVENT
BEGIN:VEVENT
DTSTART;TZID=UTC:20251222T080000
DTEND;TZID=UTC:20260102T170000
DTSTAMP:20260422T215544
CREATED:20251211T155232Z
LAST-MODIFIED:20251211T155232Z
UID:11789-1766390400-1767373200@omet.santcugat.cat
SUMMARY:Campus Esportiu de Nadal 2025-26
DESCRIPTION:Aquest Nadal\, torna el Campus Multiesportiu OMET amb una proposta acollidora\, divertida i plena d’activitats per viure unes vacances actives i enriquidores. Pensat per a infants des d’I3 fins a 6è de primària\, el nostre campus ofereix un espai segur i proper on el joc\, el moviment i la convivència són els protagonistes.
URL:https://omet.santcugat.cat/agenda/campus-esportiu-de-nadal-2025-26/
LOCATION:Escola Pins del Vallès\, Avinguda Volpelleres\, 51\, Sant Cugat del Vallès
CATEGORIES:Esdeveniments
ATTACH;FMTTYPE=image/jpeg:https://omet.santcugat.cat/wp-content/uploads/2025/12/Arxiu-Casal-de-Nadal-25-26-per-a-Instagram_page-0001.jpg
END:VEVENT
BEGIN:VEVENT
DTSTART;TZID=UTC:20251222T160000
DTEND;TZID=UTC:20251222T203000
DTSTAMP:20260422T215544
CREATED:20251211T160632Z
LAST-MODIFIED:20251224T105232Z
UID:11797-1766419200-1766435400@omet.santcugat.cat
SUMMARY:Torneig de Nadal OMET League
DESCRIPTION:Torneigs de bàsquet 3×3\, futbol 3×3\, handbol 4×4 i voleibol 4×4. Per a nois i noies de 5è de primària a 2n d’ESO.
URL:https://omet.santcugat.cat/agenda/torneig-de-nadal-omet-league/
LOCATION:ZEM Rambla del Celler\, Rambla del Celler s/n\, Sant Cugat del Vallès
CATEGORIES:Esdeveniments
END:VEVENT
BEGIN:VEVENT
DTSTART;TZID=UTC:20260131T103000
DTEND;TZID=UTC:20260131T120000
DTSTAMP:20260422T215544
CREATED:20260120T110813Z
LAST-MODIFIED:20260121T131444Z
UID:12896-1769855400-1769860800@omet.santcugat.cat
SUMMARY:2a Trobada de Voleibol benjamí
DESCRIPTION:Adreçada als grups de voleibol benjamí (3r i 4) del programa d’esport escolar de l’OMET.
URL:https://omet.santcugat.cat/agenda/2a-trobada-voleibol-benjami/
LOCATION:Pavelló Municipal de Voleibol de Valldoreix\, Carrer del Brollador\, 3\, Sant Cugat del Vallès
CATEGORIES:Esport Escolar,Jocs Esportius Escolars
ATTACH;FMTTYPE=image/png:https://omet.santcugat.cat/wp-content/uploads/2026/01/Trobada-Voleibol-Benjami.png
END:VEVENT
BEGIN:VEVENT
DTSTART;TZID=UTC:20260207T090000
DTEND;TZID=UTC:20260207T110000
DTSTAMP:20260422T215544
CREATED:20260105T090923Z
LAST-MODIFIED:20260128T093242Z
UID:12436-1770454800-1770462000@omet.santcugat.cat
SUMMARY:Trobada Comarcal de Dansa Esportiva
DESCRIPTION:Actuacions dels grups de Danses Urbanes (3r a 6è) del programa d’esport escolar de l’OMET i d’altres centres del municipi i la comarca.
URL:https://omet.santcugat.cat/agenda/16a-jornada-comarcal-de-dansa/
LOCATION:PAV3 ZEM Rambla del Celler\, Passatge del Baró de Coubertin\, 3\, Sant Cugat del Vallès
CATEGORIES:Esdeveniments,Jocs Esportius Escolars
ATTACH;FMTTYPE=image/jpeg:https://omet.santcugat.cat/wp-content/uploads/2026/01/Trobada-Dansa-Esportiva.jpg
END:VEVENT
BEGIN:VEVENT
DTSTART;TZID=UTC:20260207T113000
DTEND;TZID=UTC:20260207T133000
DTSTAMP:20260422T215544
CREATED:20260120T105640Z
LAST-MODIFIED:20260127T153301Z
UID:12599-1770463800-1770471000@omet.santcugat.cat
SUMMARY:Trobada Bàsquet Iniciació
DESCRIPTION:Adreçada a grups de Minibàsquet (1r i 2n) del programa d’esport escolar de l’OMET.
URL:https://omet.santcugat.cat/agenda/trobada-basquet-iniciacio/
LOCATION:PAV3 ZEM Rambla del Celler\, Passatge del Baró de Coubertin\, 3\, Sant Cugat del Vallès
CATEGORIES:Esport Escolar
ATTACH;FMTTYPE=image/jpeg:https://omet.santcugat.cat/wp-content/uploads/2026/01/basketball-3469628_1280.jpg
END:VEVENT
BEGIN:VEVENT
DTSTART;TZID=UTC:20260222T153000
DTEND;TZID=UTC:20260222T203000
DTSTAMP:20260422T215544
CREATED:20260105T091433Z
LAST-MODIFIED:20260121T153544Z
UID:12438-1771774200-1771792200@omet.santcugat.cat
SUMMARY:Campionat de Natació de Escolar
DESCRIPTION:Campionat de natació per a infants i joves no federats. \nCategories i horaris: \n\nPrebenjamí 1r any (2019) 15.30h\nPrebenjamí 2n any (2018) 16.30h\nBenjamí (2016 i 2017) 17.30h\nAleví (2014 i 2015) 19.00h\nInfantil (2012 i 2013) 20.00h
URL:https://omet.santcugat.cat/agenda/campionat-de-natacio-escolar/
LOCATION:Eurofitness\, Passatge del Baró de Coubertin\, 1\, Sant Cugat del Vallès
CATEGORIES:Esdeveniments
END:VEVENT
BEGIN:VEVENT
DTSTART;TZID=UTC:20260307T100000
DTEND;TZID=UTC:20260307T123000
DTSTAMP:20260422T215544
CREATED:20260302T103543Z
LAST-MODIFIED:20260302T103543Z
UID:13799-1772877600-1772886600@omet.santcugat.cat
SUMMARY:Festa de la Pública
DESCRIPTION:Circuit d’estacions esportives per a infants de 3 a 10 anys.
URL:https://omet.santcugat.cat/agenda/festa-de-la-publica/
LOCATION:Plaça Octavià\, Pl. Octavià s/n\, Sant Cugat del Vallès
CATEGORIES:Esdeveniments
ATTACH;FMTTYPE=image/jpeg:https://omet.santcugat.cat/wp-content/uploads/2026/03/Banner-Festa-de-la-Publica-2026.jpg
END:VEVENT
BEGIN:VEVENT
DTSTART;TZID=UTC:20260308T093000
DTEND;TZID=UTC:20260308T123000
DTSTAMP:20260422T215544
CREATED:20260227T095603Z
LAST-MODIFIED:20260414T122706Z
UID:13776-1772962200-1772973000@omet.santcugat.cat
SUMMARY:L’8MET et M8U - Dia Internacional de la Dona
DESCRIPTION:Sessió de Crosstraining per a dones a partir de 16 anys\, amb dues franges horàries: \n\n9.30h a 10.15h \n10.30h  11.15h\n\nInscripcions AQUÍ
URL:https://omet.santcugat.cat/agenda/l8met-et-m8u-dia-de-la-dona/
LOCATION:Escola Joan Maragall\, Passeig de la Creu\, 15\, Sant Cugat del Vallès
CATEGORIES:Esdeveniments
ATTACH;FMTTYPE=image/jpeg:https://omet.santcugat.cat/wp-content/uploads/2026/04/Agenda-Dia-Internacional-de-la-Dona.jpg
END:VEVENT
BEGIN:VEVENT
DTSTART;TZID=UTC:20260313T183000
DTEND;TZID=UTC:20260313T194500
DTSTAMP:20260422T215544
CREATED:20260304T084812Z
LAST-MODIFIED:20260304T085504Z
UID:13818-1773426600-1773431100@omet.santcugat.cat
SUMMARY:4a Jornada Campionat Tennis Taula Benjamí
DESCRIPTION:Campionat de Tennis Taula adreçat a infants de 3r i 4t de primària. Inscripcions AQUÍ
URL:https://omet.santcugat.cat/agenda/4a-jornada-campionat-tennis-taula-benjami/
LOCATION:Sala de Tennis Taula – PAV 1 de ZEM Rambla del Celler\, Passatge del Baró de Coubertin\, 3\, Sant Cugat del Vallès
ATTACH;FMTTYPE=image/jpeg:https://omet.santcugat.cat/wp-content/uploads/2026/03/Tennis-Taula-Agenda.jpg
END:VEVENT
BEGIN:VEVENT
DTSTART;TZID=UTC:20260320T183000
DTEND;TZID=UTC:20260320T194500
DTSTAMP:20260422T215544
CREATED:20260312T094653Z
LAST-MODIFIED:20260312T094816Z
UID:13883-1774031400-1774035900@omet.santcugat.cat
SUMMARY:4a Jornada Campionat Tennis Taula Aleví
DESCRIPTION:Campionat de Tennis Taula adreçat a infants de 5è i 6è de primària. Inscripcions AQUÍ 
URL:https://omet.santcugat.cat/agenda/4a-jornada-campionat-tennis-taula-alevi/
LOCATION:Sala de Tennis Taula – PAV 1 de ZEM Rambla del Celler\, Passatge del Baró de Coubertin\, 3\, Sant Cugat del Vallès
CATEGORIES:Jocs Esportius Escolars
ATTACH;FMTTYPE=image/jpeg:https://omet.santcugat.cat/wp-content/uploads/2026/03/Tennis-Taula-Agenda.jpg
END:VEVENT
BEGIN:VEVENT
DTSTART;TZID=UTC:20260322T100000
DTEND;TZID=UTC:20260322T140000
DTSTAMP:20260422T215544
CREATED:20260210T083814Z
LAST-MODIFIED:20260414T121459Z
UID:12606-1774173600-1774188000@omet.santcugat.cat
SUMMARY:Cursa d'Orientació Escolar
DESCRIPTION:Adreçada a infants i joves a partir de 1r de primària i adults. \nMés informació i inscripcions a Cursa d’Orientació Escolar – Oficina Municipal d’Esports per a Tothom
URL:https://omet.santcugat.cat/agenda/cursa-dorientacio-escolar-2/
LOCATION:Escola Turó de Can Mates\, Josep Irla\, 50\, Sant Cugat del Vallès
CATEGORIES:Esdeveniments
ATTACH;FMTTYPE=image/jpeg:https://omet.santcugat.cat/wp-content/uploads/2026/04/Agenda-Cursa-Orientacio-Escolar.jpg
END:VEVENT
BEGIN:VEVENT
DTSTART;TZID=UTC:20260326T090000
DTEND;TZID=UTC:20260326T140000
DTSTAMP:20260422T215544
CREATED:20260202T105910Z
LAST-MODIFIED:20260202T105910Z
UID:13288-1774515600-1774533600@omet.santcugat.cat
SUMMARY:Trobada de joves de 4t d'ESO
DESCRIPTION:Adreçada a joves de 4t d’ESO dels instituts públics de Sant Cugat.
URL:https://omet.santcugat.cat/agenda/trobada-de-joves-de-4t-deso/
LOCATION:ZEM La Guinardera\, Avinguda de la La Guinardera\, 20\, Sant Cugat del Vallès
CATEGORIES:Esdeveniments
ATTACH;FMTTYPE=image/jpeg:https://omet.santcugat.cat/wp-content/uploads/2026/02/Trobada-joves-4t-ESO.jpg
END:VEVENT
END:VCALENDAR