BEGIN:VCALENDAR
VERSION:2.0
PRODID:-//Oficina Municipal d&#039;Esports per a Tothom. - ECPv6.15.20//NONSGML v1.0//EN
CALSCALE:GREGORIAN
METHOD:PUBLISH
X-WR-CALNAME:Oficina Municipal d&#039;Esports per a Tothom.
X-ORIGINAL-URL:https://omet.santcugat.cat
X-WR-CALDESC:Esdeveniments per Oficina Municipal d&#039;Esports per a Tothom.
REFRESH-INTERVAL;VALUE=DURATION:PT1H
X-Robots-Tag:noindex
X-PUBLISHED-TTL:PT1H
BEGIN:VTIMEZONE
TZID:UTC
BEGIN:STANDARD
TZOFFSETFROM:+0000
TZOFFSETTO:+0000
TZNAME:UTC
DTSTART:20250101T000000
END:STANDARD
END:VTIMEZONE
BEGIN:VEVENT
DTSTART;TZID=UTC:20260330T090000
DTEND;TZID=UTC:20260402T170000
DTSTAMP:20260421T135454
CREATED:20260302T163025Z
LAST-MODIFIED:20260302T163025Z
UID:13809-1774861200-1775149200@omet.santcugat.cat
SUMMARY:Campus de Setmana Santa
DESCRIPTION:Per a infants d’i3 a 6è. Informació i inscripcions a Setmana Santa – Oficina Municipal d’Esports per a Tothom.
URL:https://omet.santcugat.cat/agenda/campus-de-setmana-santa/
LOCATION:Escola Pins del Vallès\, Avinguda Volpelleres\, 51\, Sant Cugat del Vallès
ATTACH;FMTTYPE=image/jpeg:https://omet.santcugat.cat/wp-content/uploads/2026/02/Post-Instagram-Setmana-Santa-OMET-scaled-e1771409957838.jpg
END:VEVENT
BEGIN:VEVENT
DTSTART;TZID=UTC:20260407T093000
DTEND;TZID=UTC:20260407T113000
DTSTAMP:20260421T135454
CREATED:20260324T101245Z
LAST-MODIFIED:20260414T122951Z
UID:14046-1775554200-1775561400@omet.santcugat.cat
SUMMARY:Caminada d'Orientació
DESCRIPTION:Caminada d’orientació urbana adreçada a majors de 60 anys
URL:https://omet.santcugat.cat/agenda/caminada-dorientacio/
LOCATION:Plaça de la Vila\, Plaça de la Vila\, 1\, Sant Cugat
CATEGORIES:Esdeveniments
ATTACH;FMTTYPE=image/jpeg:https://omet.santcugat.cat/wp-content/uploads/2026/03/Agenda-Caminada-Orientacio-Gent-Gran.jpg
END:VEVENT
BEGIN:VEVENT
DTSTART;TZID=UTC:20260411T100000
DTEND;TZID=UTC:20260411T143000
DTSTAMP:20260421T135454
CREATED:20260105T095338Z
LAST-MODIFIED:20260325T092707Z
UID:12443-1775901600-1775917800@omet.santcugat.cat
SUMMARY:2a Jornada de Lliga d'Atletisme Escolar
DESCRIPTION:Adreçada als grups d’atletisme del programa d’esport escolar de l’OMET. \nCategoria alevina: de 10 a 12h \nCategoria benjamina: de 12.15 a 14.15h
URL:https://omet.santcugat.cat/agenda/2a-jornada-de-lliga-datletisme-escolar-2/
LOCATION:Pista d’Atletisme La Guinardera\, Avinguda de la La Guinardera\, 20\, Sant Cugat del Vallès
CATEGORIES:Esport Escolar,Jocs Esportius Escolars
ATTACH;FMTTYPE=image/jpeg:https://omet.santcugat.cat/wp-content/uploads/2024/02/imatge-A.jpg
END:VEVENT
BEGIN:VEVENT
DTSTART;TZID=UTC:20260418T100000
DTEND;TZID=UTC:20260418T130000
DTSTAMP:20260421T135454
CREATED:20260226T111029Z
LAST-MODIFIED:20260226T130912Z
UID:12630-1776506400-1776517200@omet.santcugat.cat
SUMMARY:Trobada d'Handbol Iniciació
DESCRIPTION:Adreçada a grups de Minihandbol (1r i 2n) del programa d’esport escolar de l’OMET.
URL:https://omet.santcugat.cat/agenda/trobada-handbol-iniciacio/
LOCATION:Escola Joan Maragall\, Passeig de la Creu\, 15\, Sant Cugat del Vallès
CATEGORIES:Esport Escolar
ATTACH;FMTTYPE=image/jpeg:https://omet.santcugat.cat/wp-content/uploads/2026/02/Mini-handbol.jpg
END:VEVENT
BEGIN:VEVENT
DTSTART;TZID=UTC:20260419T100000
DTEND;TZID=UTC:20260419T140000
DTSTAMP:20260421T135454
CREATED:20260331T092616Z
LAST-MODIFIED:20260414T122217Z
UID:12632-1776592800-1776607200@omet.santcugat.cat
SUMMARY:Gimnastrada
DESCRIPTION:Exhibició dels grups de Gimnàstica Rítmica del programa d’esport escolar de l’OMET.
URL:https://omet.santcugat.cat/agenda/gimnastrada/
LOCATION:Pavelló Municipal de Voleibol de Valldoreix\, Carrer del Brollador\, 3\, Sant Cugat del Vallès
CATEGORIES:Esdeveniments,Esport Escolar
ATTACH;FMTTYPE=image/jpeg:https://omet.santcugat.cat/wp-content/uploads/2026/04/Agenda-Gimnastrada.jpg
END:VEVENT
BEGIN:VEVENT
DTSTART;TZID=UTC:20260419T120000
DTEND;TZID=UTC:20260419T140000
DTSTAMP:20260421T135454
CREATED:20260413T105057Z
LAST-MODIFIED:20260415T140206Z
UID:14853-1776600000-1776607200@omet.santcugat.cat
SUMMARY:Prèstec de material esportiu per a infants i famílies
DESCRIPTION:Vine\, agafa i gaudeix de tot el material esportiu que posem al teu abast!
URL:https://omet.santcugat.cat/agenda/prestec-de-material-esportiu-per-a-infants-i-families/
LOCATION:Plaça de la Creu de Coll Favà\, Plaça de la Creu de Coll Favà\, s/n\, Sant Cugat del Vallès
CATEGORIES:Esdeveniments
ATTACH;FMTTYPE=image/jpeg:https://omet.santcugat.cat/wp-content/uploads/2026/04/Agenda-Prestec-de-Material.jpg
END:VEVENT
BEGIN:VEVENT
DTSTART;TZID=UTC:20260424T180000
DTEND;TZID=UTC:20260424T200000
DTSTAMP:20260421T135454
CREATED:20260413T083245Z
LAST-MODIFIED:20260421T115032Z
UID:14836-1777053600-1777060800@omet.santcugat.cat
SUMMARY:Dinamització d’espais a l’aire lliure
DESCRIPTION:Torneig 4×4 de vòlei platja per a joves de 17 a 30 anys. \nInscripcions a Torneig de vòlei platja per a joves de 17 a 30 anys.
URL:https://omet.santcugat.cat/agenda/dinamitzacio-despais-a-laire-lliure/
LOCATION:Camp de Vòlei Platja de Volpelleres\, Parc de la Guineu\, Sant Cugat del Vallès
CATEGORIES:Esdeveniments
ATTACH;FMTTYPE=image/jpeg:https://omet.santcugat.cat/wp-content/uploads/2026/04/Agenda-Dinamitzacio-Joves-Volei-Platja.jpg
END:VEVENT
BEGIN:VEVENT
DTSTART;TZID=UTC:20260510T100000
DTEND;TZID=UTC:20260510T123000
DTSTAMP:20260421T135454
CREATED:20260414T121325Z
LAST-MODIFIED:20260414T121325Z
UID:12638-1778407200-1778416200@omet.santcugat.cat
SUMMARY:Cursa d'Orientació Familiar
DESCRIPTION:Adreçada a famílies (equips formats per una persona adulta i 1 o 2 infants de 1r a 6è de primària). \nMés informació i inscripcions a Cursa d’Orientació Familiar – Oficina Municipal d’Esports per a Tothom.
URL:https://omet.santcugat.cat/agenda/cursa-dorientacio-familiar-3/
LOCATION:Parc Central\, C/Josep Vidal i Granés amb C/Isidre Nonell\, Sant Cugat del Vallès
ATTACH;FMTTYPE=image/jpeg:https://omet.santcugat.cat/wp-content/uploads/2026/04/Agenda-Cursa-Orientacio-Familiar-1.jpg
END:VEVENT
BEGIN:VEVENT
DTSTART;TZID=UTC:20260530T090000
DTEND;TZID=UTC:20260530T210000
DTSTAMP:20260421T135454
CREATED:20260417T071324Z
LAST-MODIFIED:20260417T071325Z
UID:12642-1780131600-1780174800@omet.santcugat.cat
SUMMARY:Festa de Cloenda
DESCRIPTION:Consulteu el programa d’activitat al següent ENLLAÇ.
URL:https://omet.santcugat.cat/agenda/festa-de-cloenda/
LOCATION:ZEM Rambla del Celler\, Rambla del Celler s/n\, Sant Cugat del Vallès
CATEGORIES:Esdeveniments
ATTACH;FMTTYPE=image/jpeg:https://omet.santcugat.cat/wp-content/uploads/2023/05/foto_cloenda12.jpg
END:VEVENT
END:VCALENDAR