BEGIN:VCALENDAR
VERSION:2.0
PRODID:-//Oficina Municipal d&#039;Esports per a Tothom. - ECPv6.15.20//NONSGML v1.0//EN
CALSCALE:GREGORIAN
METHOD:PUBLISH
X-ORIGINAL-URL:https://omet.santcugat.cat
X-WR-CALDESC:Esdeveniments per Oficina Municipal d&#039;Esports per a Tothom.
REFRESH-INTERVAL;VALUE=DURATION:PT1H
X-Robots-Tag:noindex
X-PUBLISHED-TTL:PT1H
BEGIN:VTIMEZONE
TZID:Europe/Madrid
BEGIN:DAYLIGHT
TZOFFSETFROM:+0100
TZOFFSETTO:+0200
TZNAME:CEST
DTSTART:20230326T010000
END:DAYLIGHT
BEGIN:STANDARD
TZOFFSETFROM:+0200
TZOFFSETTO:+0100
TZNAME:CET
DTSTART:20231029T010000
END:STANDARD
BEGIN:DAYLIGHT
TZOFFSETFROM:+0100
TZOFFSETTO:+0200
TZNAME:CEST
DTSTART:20240331T010000
END:DAYLIGHT
BEGIN:STANDARD
TZOFFSETFROM:+0200
TZOFFSETTO:+0100
TZNAME:CET
DTSTART:20241027T010000
END:STANDARD
BEGIN:DAYLIGHT
TZOFFSETFROM:+0100
TZOFFSETTO:+0200
TZNAME:CEST
DTSTART:20250330T010000
END:DAYLIGHT
BEGIN:STANDARD
TZOFFSETFROM:+0200
TZOFFSETTO:+0100
TZNAME:CET
DTSTART:20251026T010000
END:STANDARD
END:VTIMEZONE
BEGIN:VEVENT
DTSTART;TZID=Europe/Madrid:20241110T080000
DTEND;TZID=Europe/Madrid:20241110T140000
DTSTAMP:20260422T203054
CREATED:20240827T135551Z
LAST-MODIFIED:20240827T135551Z
UID:7827-1731225600-1731247200@omet.santcugat.cat
SUMMARY:26è Cros Ciutat de Sant Cugat
DESCRIPTION:L’Ajuntament de Sant Cugat mitjançant l’Oficina Municipal d’Esport per a Tothom (OMET)\, organitza un any més el Cros Ciutat de Sant Cugat. Enguany arribem a la 26a edició d’un esdeveniment esportiu que és tot un referent del municipi. Al llarg de tot el matí es desenvolupen un munt de curses\, separades per les diferents categories d’edats i sexe\, que engloben totes les edats.\nEn aquest mateix web trobaràs ben aviat tota la informació.\nParticipa!
URL:https://omet.santcugat.cat/agenda/26e-cros-ciutat-de-sant-cugat/
CATEGORIES:Esdeveniments
ATTACH;FMTTYPE=image/jpeg:https://omet.santcugat.cat/wp-content/uploads/2023/11/42.jpg
END:VEVENT
END:VCALENDAR