BEGIN:VCALENDAR
VERSION:2.0
PRODID:-//Oficina Municipal d&#039;Esports per a Tothom. - ECPv6.15.20//NONSGML v1.0//EN
CALSCALE:GREGORIAN
METHOD:PUBLISH
X-WR-CALNAME:Oficina Municipal d&#039;Esports per a Tothom.
X-ORIGINAL-URL:https://omet.santcugat.cat
X-WR-CALDESC:Esdeveniments per Oficina Municipal d&#039;Esports per a Tothom.
REFRESH-INTERVAL;VALUE=DURATION:PT1H
X-Robots-Tag:noindex
X-PUBLISHED-TTL:PT1H
BEGIN:VTIMEZONE
TZID:Europe/Madrid
BEGIN:DAYLIGHT
TZOFFSETFROM:+0100
TZOFFSETTO:+0200
TZNAME:CEST
DTSTART:20230326T010000
END:DAYLIGHT
BEGIN:STANDARD
TZOFFSETFROM:+0200
TZOFFSETTO:+0100
TZNAME:CET
DTSTART:20231029T010000
END:STANDARD
BEGIN:DAYLIGHT
TZOFFSETFROM:+0100
TZOFFSETTO:+0200
TZNAME:CEST
DTSTART:20240331T010000
END:DAYLIGHT
BEGIN:STANDARD
TZOFFSETFROM:+0200
TZOFFSETTO:+0100
TZNAME:CET
DTSTART:20241027T010000
END:STANDARD
BEGIN:DAYLIGHT
TZOFFSETFROM:+0100
TZOFFSETTO:+0200
TZNAME:CEST
DTSTART:20250330T010000
END:DAYLIGHT
BEGIN:STANDARD
TZOFFSETFROM:+0200
TZOFFSETTO:+0100
TZNAME:CET
DTSTART:20251026T010000
END:STANDARD
END:VTIMEZONE
BEGIN:VEVENT
DTSTART;TZID=Europe/Madrid:20240625T080000
DTEND;TZID=Europe/Madrid:20240726T170000
DTSTAMP:20260423T020805
CREATED:20240325T211016Z
LAST-MODIFIED:20240325T211016Z
UID:7824-1719302400-1722013200@omet.santcugat.cat
SUMMARY:Campus Multiesportius d'Estiu OMET 2024
DESCRIPTION:L’Ajuntament de Sant Cugat del Vallès a través de l’Oficina Municipal d’Esport per a Tothom\, organitza un any més els Campus Multiesportius d’Estiu de l’OMET per a infants i joves. Amb aquests arribem ja a la desena edició d’una oferta de Campus esportius molt variada i per a tots els gustos i edats.\nAixí que només cal que escollis el que més t’agradi i vine a passar uns dies fantàstics amb nosaltres fent esport\, un munt d’activitats lúdiques i molts amics i amigues.\nEstigues al cas perquè les inscripcions s’obren el 8 d’abril’24.
URL:https://omet.santcugat.cat/agenda/campus-multiesportius-destiu-omet-2024/
CATEGORIES:Esdeveniments
END:VEVENT
END:VCALENDAR