BEGIN:VCALENDAR
VERSION:2.0
PRODID:-//Oficina Municipal d&#039;Esports per a Tothom. - ECPv6.15.20//NONSGML v1.0//EN
CALSCALE:GREGORIAN
METHOD:PUBLISH
X-ORIGINAL-URL:https://omet.santcugat.cat
X-WR-CALDESC:Esdeveniments per Oficina Municipal d&#039;Esports per a Tothom.
REFRESH-INTERVAL;VALUE=DURATION:PT1H
X-Robots-Tag:noindex
X-PUBLISHED-TTL:PT1H
BEGIN:VTIMEZONE
TZID:Europe/Madrid
BEGIN:DAYLIGHT
TZOFFSETFROM:+0100
TZOFFSETTO:+0200
TZNAME:CEST
DTSTART:20230326T010000
END:DAYLIGHT
BEGIN:STANDARD
TZOFFSETFROM:+0200
TZOFFSETTO:+0100
TZNAME:CET
DTSTART:20231029T010000
END:STANDARD
BEGIN:DAYLIGHT
TZOFFSETFROM:+0100
TZOFFSETTO:+0200
TZNAME:CEST
DTSTART:20240331T010000
END:DAYLIGHT
BEGIN:STANDARD
TZOFFSETFROM:+0200
TZOFFSETTO:+0100
TZNAME:CET
DTSTART:20241027T010000
END:STANDARD
BEGIN:DAYLIGHT
TZOFFSETFROM:+0100
TZOFFSETTO:+0200
TZNAME:CEST
DTSTART:20250330T010000
END:DAYLIGHT
BEGIN:STANDARD
TZOFFSETFROM:+0200
TZOFFSETTO:+0100
TZNAME:CET
DTSTART:20251026T010000
END:STANDARD
END:VTIMEZONE
BEGIN:VEVENT
DTSTART;TZID=Europe/Madrid:20240420T100000
DTEND;TZID=Europe/Madrid:20240420T140000
DTSTAMP:20260423T061913
CREATED:20240405T112527Z
LAST-MODIFIED:20240405T112527Z
UID:7825-1713607200-1713621600@omet.santcugat.cat
SUMMARY:3a Jornada de lliga d'Atletisme Escolar
DESCRIPTION:Dissabte 20 d’abril’24 arribem a la 3a i última jornada de lliga d’atletisme escolar. Una lliga que es fa a la pista d’atletisme d’atletisme de la ZEM La Guinardera i que va adreçada a nenes i nens de 2n a 6è d’EP que fan l’activitat extraescolar d’atletisme dins del programa dels Jocs Esportius Escolars de l’OMET.\nAquest final de lliga promet molt perquè les classificacions estan molt igualades. En categoria benjamí domina en primera posició l’equip Turó de Can Mates 1 amb 85 punts. Però és que en segona posició hi ha un triple empat amb 68 punts amb els equips Joan Maragall\, Turó de Can Mates 2 i Pins del Vallès. De ben a prop\, en tercera posició venen apretant amb 66 punts\, el Pi d’en Xandri i La Mirada. \nPel que fa en categoria aleví enim\, en primera posició amb 88 punts l’equip Joan Maragall i en segona tenim un triple empat amb 80 punts amb els equips Pins del Vallès\, L’Olivera i el Ciutat d’Alba. \nJa veieu que la lliga està molt apretada. Us esperem a la jornada per animar i encoratjar a tots els atletes que competeixen fent les 10 proves. L’emoció està garantida!
URL:https://omet.santcugat.cat/agenda/3a-jornada-de-lliga-datletisme-escolar/
CATEGORIES:Esdeveniments
ATTACH;FMTTYPE=image/jpeg:https://omet.santcugat.cat/wp-content/uploads/2024/02/40-1.jpg
END:VEVENT
END:VCALENDAR