BEGIN:VCALENDAR
VERSION:2.0
PRODID:-//Oficina Municipal d&#039;Esports per a Tothom. - ECPv6.15.20//NONSGML v1.0//EN
CALSCALE:GREGORIAN
METHOD:PUBLISH
X-WR-CALNAME:Oficina Municipal d&#039;Esports per a Tothom.
X-ORIGINAL-URL:https://omet.santcugat.cat
X-WR-CALDESC:Esdeveniments per Oficina Municipal d&#039;Esports per a Tothom.
REFRESH-INTERVAL;VALUE=DURATION:PT1H
X-Robots-Tag:noindex
X-PUBLISHED-TTL:PT1H
BEGIN:VTIMEZONE
TZID:Europe/Madrid
BEGIN:DAYLIGHT
TZOFFSETFROM:+0100
TZOFFSETTO:+0200
TZNAME:CEST
DTSTART:20230326T010000
END:DAYLIGHT
BEGIN:STANDARD
TZOFFSETFROM:+0200
TZOFFSETTO:+0100
TZNAME:CET
DTSTART:20231029T010000
END:STANDARD
BEGIN:DAYLIGHT
TZOFFSETFROM:+0100
TZOFFSETTO:+0200
TZNAME:CEST
DTSTART:20240331T010000
END:DAYLIGHT
BEGIN:STANDARD
TZOFFSETFROM:+0200
TZOFFSETTO:+0100
TZNAME:CET
DTSTART:20241027T010000
END:STANDARD
BEGIN:DAYLIGHT
TZOFFSETFROM:+0100
TZOFFSETTO:+0200
TZNAME:CEST
DTSTART:20250330T010000
END:DAYLIGHT
BEGIN:STANDARD
TZOFFSETFROM:+0200
TZOFFSETTO:+0100
TZNAME:CET
DTSTART:20251026T010000
END:STANDARD
END:VTIMEZONE
BEGIN:VEVENT
DTSTART;TZID=Europe/Madrid:20240414T100000
DTEND;TZID=Europe/Madrid:20240414T140000
DTSTAMP:20260423T061816
CREATED:20240311T215030Z
LAST-MODIFIED:20240311T215030Z
UID:7823-1713088800-1713103200@omet.santcugat.cat
SUMMARY:Cursa d'Orientació Escolar 2024
DESCRIPTION:L’Ajuntament de Sant Cugat del Vallès\, mitjançant l’Oficina Municipal d’Esports per a Tothom (OMET)\, organitza la 24a edició de la Cursa d’Orientació Escolar que se celebrarà el proper 14 d’abril de 2024 a l’Escola Turó de Can Mates i el Parc del Turó de Can Mates a partir de les 10:00 hores. \nINSCRIPCIONS:\nInscripcions obertes fins dimarts 9 d’abril.\nUs podeu inscriure mitjançant el següent enllaç (clica): CURSA D’ORIENTACIÓ ESCOLAR 2024
URL:https://omet.santcugat.cat/agenda/cursa-dorientacio-escolar-2024/
CATEGORIES:Esdeveniments
ATTACH;FMTTYPE=image/jpeg:https://omet.santcugat.cat/wp-content/uploads/2024/03/imatge_miniatura.jpg
END:VEVENT
END:VCALENDAR