BEGIN:VCALENDAR
VERSION:2.0
PRODID:-//Oficina Municipal d&#039;Esports per a Tothom. - ECPv6.15.20//NONSGML v1.0//EN
CALSCALE:GREGORIAN
METHOD:PUBLISH
X-ORIGINAL-URL:https://omet.santcugat.cat
X-WR-CALDESC:Esdeveniments per Oficina Municipal d&#039;Esports per a Tothom.
REFRESH-INTERVAL;VALUE=DURATION:PT1H
X-Robots-Tag:noindex
X-PUBLISHED-TTL:PT1H
BEGIN:VTIMEZONE
TZID:Europe/Madrid
BEGIN:DAYLIGHT
TZOFFSETFROM:+0100
TZOFFSETTO:+0200
TZNAME:CEST
DTSTART:20220327T010000
END:DAYLIGHT
BEGIN:STANDARD
TZOFFSETFROM:+0200
TZOFFSETTO:+0100
TZNAME:CET
DTSTART:20221030T010000
END:STANDARD
BEGIN:DAYLIGHT
TZOFFSETFROM:+0100
TZOFFSETTO:+0200
TZNAME:CEST
DTSTART:20230326T010000
END:DAYLIGHT
BEGIN:STANDARD
TZOFFSETFROM:+0200
TZOFFSETTO:+0100
TZNAME:CET
DTSTART:20231029T010000
END:STANDARD
BEGIN:DAYLIGHT
TZOFFSETFROM:+0100
TZOFFSETTO:+0200
TZNAME:CEST
DTSTART:20240331T010000
END:DAYLIGHT
BEGIN:STANDARD
TZOFFSETFROM:+0200
TZOFFSETTO:+0100
TZNAME:CET
DTSTART:20241027T010000
END:STANDARD
END:VTIMEZONE
BEGIN:VEVENT
DTSTART;TZID=Europe/Madrid:20231221T090000
DTEND;TZID=Europe/Madrid:20231229T140000
DTSTAMP:20260423T133429
CREATED:20231017T104318Z
LAST-MODIFIED:20231017T104318Z
UID:3884-1703149200-1703858400@omet.santcugat.cat
SUMMARY:CIATE DE NADAL 2023
DESCRIPTION:CURS DE MONITOR/A D’ACTIVITATS DE DINAMITZADOR POLIESPORTIU (CIATE)\nEl curs d’Iniciació a Tècnic/a Espotiu (CIATE) és un programa propi del Consell Català de l’Esport que es desenvolupa a Sant Cugat a través de l’OMET (Oficina Municipal d’Esports per a Tothom)\, i va adreçada a totes aquelles persones majors de 16 anys que es vulguin iniciar en el món de l’ensenyament esportiu.\nEntra a la notícia i informa-te’n (clica)
URL:https://omet.santcugat.cat/agenda/ciate-de-nadal-2023/
CATEGORIES:Esdeveniments
ATTACH;FMTTYPE=image/jpeg:https://omet.santcugat.cat/wp-content/uploads/2023/05/foto_ciate_inici.jpg
END:VEVENT
END:VCALENDAR