BEGIN:VCALENDAR
VERSION:2.0
PRODID:-//Oficina Municipal d&#039;Esports per a Tothom. - ECPv6.15.20//NONSGML v1.0//EN
CALSCALE:GREGORIAN
METHOD:PUBLISH
X-WR-CALNAME:Oficina Municipal d&#039;Esports per a Tothom.
X-ORIGINAL-URL:https://omet.santcugat.cat
X-WR-CALDESC:Esdeveniments per Oficina Municipal d&#039;Esports per a Tothom.
REFRESH-INTERVAL;VALUE=DURATION:PT1H
X-Robots-Tag:noindex
X-PUBLISHED-TTL:PT1H
BEGIN:VTIMEZONE
TZID:Europe/Madrid
BEGIN:DAYLIGHT
TZOFFSETFROM:+0100
TZOFFSETTO:+0200
TZNAME:CEST
DTSTART:20220327T010000
END:DAYLIGHT
BEGIN:STANDARD
TZOFFSETFROM:+0200
TZOFFSETTO:+0100
TZNAME:CET
DTSTART:20221030T010000
END:STANDARD
BEGIN:DAYLIGHT
TZOFFSETFROM:+0100
TZOFFSETTO:+0200
TZNAME:CEST
DTSTART:20230326T010000
END:DAYLIGHT
BEGIN:STANDARD
TZOFFSETFROM:+0200
TZOFFSETTO:+0100
TZNAME:CET
DTSTART:20231029T010000
END:STANDARD
BEGIN:DAYLIGHT
TZOFFSETFROM:+0100
TZOFFSETTO:+0200
TZNAME:CEST
DTSTART:20240331T010000
END:DAYLIGHT
BEGIN:STANDARD
TZOFFSETFROM:+0200
TZOFFSETTO:+0100
TZNAME:CET
DTSTART:20241027T010000
END:STANDARD
END:VTIMEZONE
BEGIN:VEVENT
DTSTART;TZID=Europe/Madrid:20231118T093000
DTEND;TZID=Europe/Madrid:20231118T140000
DTSTAMP:20260423T162010
CREATED:20230901T131042Z
LAST-MODIFIED:20230901T131042Z
UID:3038-1700299800-1700316000@omet.santcugat.cat
SUMMARY:Comença la lliga d'Atletisme Escolar
DESCRIPTION:Dissabte 18 de novembre’23 comença la Lliga d’Atletisme Escolar. Una competició molt emocionant i educativa on es fomenten valors com l’autosuperació\, l’esforç\, la coeducació\, la igualtat d’oportunitats\, el treball en equip… amb l’objectiu d’ensenyar i promocionar les bases de les diferents disciplines l’atletisme entre les nenes i els nens de 3r a 6è de primària.\nHi prenen part una gran majoria de les escoles de la ciutat i enguany arriba ja a la 14a edició. Us hi esperem!
URL:https://omet.santcugat.cat/agenda/comenca-la-lliga-datletisme-escolar/
CATEGORIES:Esdeveniments
ATTACH;FMTTYPE=image/jpeg:https://omet.santcugat.cat/wp-content/uploads/2023/09/20230211_113014.jpg
END:VEVENT
END:VCALENDAR