BEGIN:VCALENDAR
VERSION:2.0
PRODID:-//Oficina Municipal d&#039;Esports per a Tothom. - ECPv6.15.20//NONSGML v1.0//EN
CALSCALE:GREGORIAN
METHOD:PUBLISH
X-ORIGINAL-URL:https://omet.santcugat.cat
X-WR-CALDESC:Esdeveniments per Oficina Municipal d&#039;Esports per a Tothom.
REFRESH-INTERVAL;VALUE=DURATION:PT1H
X-Robots-Tag:noindex
X-PUBLISHED-TTL:PT1H
BEGIN:VTIMEZONE
TZID:Europe/Madrid
BEGIN:DAYLIGHT
TZOFFSETFROM:+0100
TZOFFSETTO:+0200
TZNAME:CEST
DTSTART:20220327T010000
END:DAYLIGHT
BEGIN:STANDARD
TZOFFSETFROM:+0200
TZOFFSETTO:+0100
TZNAME:CET
DTSTART:20221030T010000
END:STANDARD
BEGIN:DAYLIGHT
TZOFFSETFROM:+0100
TZOFFSETTO:+0200
TZNAME:CEST
DTSTART:20230326T010000
END:DAYLIGHT
BEGIN:STANDARD
TZOFFSETFROM:+0200
TZOFFSETTO:+0100
TZNAME:CET
DTSTART:20231029T010000
END:STANDARD
BEGIN:DAYLIGHT
TZOFFSETFROM:+0100
TZOFFSETTO:+0200
TZNAME:CEST
DTSTART:20240331T010000
END:DAYLIGHT
BEGIN:STANDARD
TZOFFSETFROM:+0200
TZOFFSETTO:+0100
TZNAME:CET
DTSTART:20241027T010000
END:STANDARD
END:VTIMEZONE
BEGIN:VEVENT
DTSTART;TZID=Europe/Madrid:20230918T090000
DTEND;TZID=Europe/Madrid:20230918T220000
DTSTAMP:20260423T175908
CREATED:20230901T124623Z
LAST-MODIFIED:20230901T124623Z
UID:3034-1695027600-1695074400@omet.santcugat.cat
SUMMARY:Inici de les activitats físiques per a tothom
DESCRIPTION:Dilluns 18 de setembre de 2023 comencen les activitats físiques del nou curs 2023-24 amb els programes: Esport Escolar\, Jocs Esportius Escolars i Activitat Física per a Adults i Gent Gran.\nUs oferim un ampli ventall de possibilitats perquè feu esport durant tot el curs. Les activitats finalitzaran el 21 de juny de 2024.\nFeu Esport; Us hi esperem!
URL:https://omet.santcugat.cat/agenda/inici-de-les-activitats-fisiques-per-a-tothom/
CATEGORIES:Esdeveniments
ATTACH;FMTTYPE=image/jpeg:https://omet.santcugat.cat/wp-content/uploads/2023/09/Cartell-programes-adults-i-gent-gran-23-24-web-e1693565295187.jpg
END:VEVENT
END:VCALENDAR