BEGIN:VCALENDAR
VERSION:2.0
PRODID:-//Oficina Municipal d&#039;Esports per a Tothom. - ECPv6.15.20//NONSGML v1.0//EN
CALSCALE:GREGORIAN
METHOD:PUBLISH
X-ORIGINAL-URL:https://omet.santcugat.cat
X-WR-CALDESC:Esdeveniments per Oficina Municipal d&#039;Esports per a Tothom.
REFRESH-INTERVAL;VALUE=DURATION:PT1H
X-Robots-Tag:noindex
X-PUBLISHED-TTL:PT1H
BEGIN:VTIMEZONE
TZID:Europe/Madrid
BEGIN:DAYLIGHT
TZOFFSETFROM:+0100
TZOFFSETTO:+0200
TZNAME:CEST
DTSTART:20220327T010000
END:DAYLIGHT
BEGIN:STANDARD
TZOFFSETFROM:+0200
TZOFFSETTO:+0100
TZNAME:CET
DTSTART:20221030T010000
END:STANDARD
BEGIN:DAYLIGHT
TZOFFSETFROM:+0100
TZOFFSETTO:+0200
TZNAME:CEST
DTSTART:20230326T010000
END:DAYLIGHT
BEGIN:STANDARD
TZOFFSETFROM:+0200
TZOFFSETTO:+0100
TZNAME:CET
DTSTART:20231029T010000
END:STANDARD
BEGIN:DAYLIGHT
TZOFFSETFROM:+0100
TZOFFSETTO:+0200
TZNAME:CEST
DTSTART:20240331T010000
END:DAYLIGHT
BEGIN:STANDARD
TZOFFSETFROM:+0200
TZOFFSETTO:+0100
TZNAME:CET
DTSTART:20241027T010000
END:STANDARD
END:VTIMEZONE
BEGIN:VEVENT
DTSTART;TZID=Europe/Madrid:20230703T090000
DTEND;TZID=Europe/Madrid:20230714T200000
DTSTAMP:20260423T210639
CREATED:20230430T091320Z
LAST-MODIFIED:20230430T091320Z
UID:734-1688374800-1689364800@omet.santcugat.cat
SUMMARY:Super CIATE Estiu 2023
DESCRIPTION:Arriba el SÚPER CIATE de l’estiu 2023. Del 3 al 14 juliol.\nUn curs d’iniciació a tècnic/a esportiu/va. \nEl curs és un programa del Consell Català de l’Esport que es desenvolupa des de l’Ajuntament de Sant Cugat mitjançant l’OMET (Oficina Municipal d’Esport per a Tothom) amb el suport del Consell Esportiu Comarcal a l’àmbit de Terrassa. \nAquest curs CIATE per obtenir el certificat de dinamitzador en l’àmbit esportiu consta de dos blocs:\nBloc 1: Gestió de petites entitats esportives + primers auxilis (del 3 al 7 de juliol)\nBloc 2: Joc i esport en edat escolar + bloc comú (del 10 al 14 de juliol)
URL:https://omet.santcugat.cat/agenda/super-ciate-estiu-2023/
CATEGORIES:Formaciò
ATTACH;FMTTYPE=image/jpeg:https://omet.santcugat.cat/wp-content/uploads/2023/04/imatge_logo_superciate_estiu2023-e1682839361797.jpg
END:VEVENT
END:VCALENDAR