BEGIN:VCALENDAR
VERSION:2.0
PRODID:-//Oficina Municipal d&#039;Esports per a Tothom. - ECPv6.15.20//NONSGML v1.0//EN
CALSCALE:GREGORIAN
METHOD:PUBLISH
X-ORIGINAL-URL:https://omet.santcugat.cat
X-WR-CALDESC:Esdeveniments per Oficina Municipal d&#039;Esports per a Tothom.
REFRESH-INTERVAL;VALUE=DURATION:PT1H
X-Robots-Tag:noindex
X-PUBLISHED-TTL:PT1H
BEGIN:VTIMEZONE
TZID:Europe/Madrid
BEGIN:DAYLIGHT
TZOFFSETFROM:+0100
TZOFFSETTO:+0200
TZNAME:CEST
DTSTART:20220327T010000
END:DAYLIGHT
BEGIN:STANDARD
TZOFFSETFROM:+0200
TZOFFSETTO:+0100
TZNAME:CET
DTSTART:20221030T010000
END:STANDARD
BEGIN:DAYLIGHT
TZOFFSETFROM:+0100
TZOFFSETTO:+0200
TZNAME:CEST
DTSTART:20230326T010000
END:DAYLIGHT
BEGIN:STANDARD
TZOFFSETFROM:+0200
TZOFFSETTO:+0100
TZNAME:CET
DTSTART:20231029T010000
END:STANDARD
BEGIN:DAYLIGHT
TZOFFSETFROM:+0100
TZOFFSETTO:+0200
TZNAME:CEST
DTSTART:20240331T010000
END:DAYLIGHT
BEGIN:STANDARD
TZOFFSETFROM:+0200
TZOFFSETTO:+0100
TZNAME:CET
DTSTART:20241027T010000
END:STANDARD
END:VTIMEZONE
BEGIN:VEVENT
DTSTART;TZID=Europe/Madrid:20230520T210000
DTEND;TZID=Europe/Madrid:20230521T210000
DTSTAMP:20260424T003835
CREATED:20230501T225906Z
LAST-MODIFIED:20230501T225906Z
UID:1023-1684616400-1684702800@omet.santcugat.cat
SUMMARY:7è Torneig Nocturn Futbol 7
DESCRIPTION:La Penya Blaugrana de Sant Cugat del Vallès\, juntament amb Teampartners\, organitza per aquest proper 20 de maig de 2023\, la 7a edició del TORNEIG NOCTURN MIXT DE FUTBOL 7 PER A JOVES. Aquesta activitat esportiva està adreçada als nois i noies de 12 a 18 anys (ESO i Batxillerat) de tots els instituts i centres escolars de Sant Cugat\, així com de casals\, centres cívics per a joves i entitats esportives i culturals.\nEl torneig\, que pretén involucrar als nois i les noies a l’adquisició de bons hàbits\, es farà a la Zona Esportiva Municipal de Can Magí i al Camp de Futbol de la ZEM La Guinardera \nHORARIS\n1r grup (de 1r a 3r d’ESO):\n• De 21:00 a 00:00 hores (hora de convocatòria a les 20:00 hores). Aquest grup jugarà al camp de futbol municipal de Can Magí.\n2n grup (de 4t d’ESO a 2n de Batxillerat):\n• De 22:00 a 01:00 hores (hora de convocatòria a les 21:00 hores). Aquest grup jugarà al camp de futbol municipal de La Guinardera \nORGANITZACIÓ\nLes persones interessades (els equips han de ser mixtes)\, s’hauran d’organitzar com a equip i escollir un o una delegat/ada major d’edat que els representi.\n• Cada equip jugarà un mínim de 3 partits.\n• Els partits seran de 15 minuts.\n• Màxim de 12 equips per grup.\n• Jugadors/es per equip: entre 9 i 12.\n• Ha d’haver-hi un mínim de 3 NOIES PER EQUIP.\n• Cada equip pot tenir un màxim de 5 jugadors/es federats.\n• Tots els equips hauran de fer uns tallers de sensibilització de BONS HÀBITS si volen passar a la següent ronda.\n• Com a serveis complementaris hi haurà un servei de bar i també vestidors amb dutxes.\n• Tots/es els/les participants rebran una samarreta commmemorativa (cada equip la tindrà d’un color diferent).
URL:https://omet.santcugat.cat/agenda/7e-torneig-nocturn-futbol-7/
CATEGORIES:Esdeveniments
ATTACH;FMTTYPE=image/jpeg:https://omet.santcugat.cat/wp-content/uploads/2023/05/7e_torneig_nocturn.jpg
END:VEVENT
END:VCALENDAR